BEGIN:VCALENDAR
VERSION:2.0
PRODID:-//Commune de Gambsheim - ECPv6.15.13//NONSGML v1.0//EN
CALSCALE:GREGORIAN
METHOD:PUBLISH
X-WR-CALNAME:Commune de Gambsheim
X-ORIGINAL-URL:https://mairie-gambsheim.fr
X-WR-CALDESC:Évènements pour Commune de Gambsheim
REFRESH-INTERVAL;VALUE=DURATION:PT1H
X-Robots-Tag:noindex
X-PUBLISHED-TTL:PT1H
BEGIN:VTIMEZONE
TZID:Europe/Paris
BEGIN:DAYLIGHT
TZOFFSETFROM:+0100
TZOFFSETTO:+0200
TZNAME:CEST
DTSTART:20220327T010000
END:DAYLIGHT
BEGIN:STANDARD
TZOFFSETFROM:+0200
TZOFFSETTO:+0100
TZNAME:CET
DTSTART:20221030T010000
END:STANDARD
BEGIN:DAYLIGHT
TZOFFSETFROM:+0100
TZOFFSETTO:+0200
TZNAME:CEST
DTSTART:20230326T010000
END:DAYLIGHT
BEGIN:STANDARD
TZOFFSETFROM:+0200
TZOFFSETTO:+0100
TZNAME:CET
DTSTART:20231029T010000
END:STANDARD
BEGIN:DAYLIGHT
TZOFFSETFROM:+0100
TZOFFSETTO:+0200
TZNAME:CEST
DTSTART:20240331T010000
END:DAYLIGHT
BEGIN:STANDARD
TZOFFSETFROM:+0200
TZOFFSETTO:+0100
TZNAME:CET
DTSTART:20241027T010000
END:STANDARD
BEGIN:DAYLIGHT
TZOFFSETFROM:+0100
TZOFFSETTO:+0200
TZNAME:CEST
DTSTART:20250330T010000
END:DAYLIGHT
BEGIN:STANDARD
TZOFFSETFROM:+0200
TZOFFSETTO:+0100
TZNAME:CET
DTSTART:20251026T010000
END:STANDARD
BEGIN:DAYLIGHT
TZOFFSETFROM:+0100
TZOFFSETTO:+0200
TZNAME:CEST
DTSTART:20260329T010000
END:DAYLIGHT
BEGIN:STANDARD
TZOFFSETFROM:+0200
TZOFFSETTO:+0100
TZNAME:CET
DTSTART:20261025T010000
END:STANDARD
END:VTIMEZONE
BEGIN:VEVENT
DTSTART;TZID=Europe/Paris:20250729T203000
DTEND;TZID=Europe/Paris:20250729T220000
DTSTAMP:20260425T053319
CREATED:20250724T094750Z
LAST-MODIFIED:20250724T094750Z
UID:10000672-1753821000-1753826400@mairie-gambsheim.fr
SUMMARY:Concert "Indépendence Tour" Eglise Sts Nazaire et Celse - Gambsheim
DESCRIPTION:Dans le cadre de la tournée européenne dénommée « Independence Tour »\, le groupe de musique American Music Abroad fera escale une deuxième fois à Gambsheim pour un \nConcert exceptionnel et gratuit : mardi 29 juillet 2025 à 20h30 Eglise Sts Nazaire et Celse à GAMBSHEIM \nLe groupe présent ce soir-là est composé d’un orchestre symphonique de 35 musiciens et d’une chorale de 40 personnes\, il vous transportera musicalement au-delà de l’océan ! \nAffiche de l’évènement
URL:https://mairie-gambsheim.fr/event/concert-independence-tour-eglise-sts-nazaire-et-celse-gambsheim/
LOCATION:Eglise Saints Nazaire et Celse\, 105 route Nationale\, GAMBSHEIM\, 67760
GEO:48.6913599;7.8821488
X-APPLE-STRUCTURED-LOCATION;VALUE=URI;X-ADDRESS=Eglise Saints Nazaire et Celse 105 route Nationale GAMBSHEIM 67760;X-APPLE-RADIUS=500;X-TITLE=105 route Nationale:geo:7.8821488,48.6913599
END:VEVENT
BEGIN:VEVENT
DTSTART;TZID=Europe/Paris:20230714T200000
DTEND;TZID=Europe/Paris:20230714T220000
DTSTAMP:20260425T053319
CREATED:20230628T134158Z
LAST-MODIFIED:20230628T134158Z
UID:10000312-1689364800-1689372000@mairie-gambsheim.fr
SUMMARY:Concert American Music Abroad
DESCRIPTION:
URL:https://mairie-gambsheim.fr/event/concert-american-music-abroad/
LOCATION:Eglise Saints Nazaire et Celse\, 105 route Nationale\, GAMBSHEIM\, 67760
GEO:48.6913599;7.8821488
X-APPLE-STRUCTURED-LOCATION;VALUE=URI;X-ADDRESS=Eglise Saints Nazaire et Celse 105 route Nationale GAMBSHEIM 67760;X-APPLE-RADIUS=500;X-TITLE=105 route Nationale:geo:7.8821488,48.6913599
END:VEVENT
END:VCALENDAR